Workbook
Name BI2018v2019: Summary!#REF!
Name BI2018v2021: Summary!#REF!
Name BI2019v2020: Summary!#REF!
Name BI2020v2021: Summary!#REF!
Name BillPeriodA: #REF!
Name BillPeriodB: #REF!
Name calMonth: #REF!
Name NomDisRateYr2: #REF!
Name NomDisRateYr3: #REF!
Name reportYear: #REF!
Name Year1: 2025
Name Year2: 2026
Name Year3: 2027

Sheet Summary
B2: Cape Light Compact JPE
B3: Summary of Bill Impact Analysis
B6: Rate Class Information | F6: Month | H6: Annual
D7: Monthly Avg | F7: 2026 In Effect vs. 2027 Proposed | H7: 2026 In Effect vs. 2027 Proposed
B8: Rate | D8: kW/kVA | E8: kWh | F8: Total Change | G8: % Change | H8: Total Change | I8: =G8 -> % Change
B10: Rate R-1 Residential | C10: R-1 | E10: =Detail!D25 -> 530 | F10: =Detail!N25 -> 3.79 | G10: =Detail!O25 -> 0.01855115 | H10: =F10*12 -> 45.48 | I10: =G10 -> 0.01855115
B12: Rate R-1HP Residential Heat Pump (Winter) | C12: R-1HP | E12: =Detail!D83 -> 1713.597 | F12: =Detail!N83 -> 12.27 | G12: =Detail!O83 -> 0.024341374 | H12: =F12*12 -> 147.24 | I12: =G12 -> 0.024341374
B13: Rate R-1HP Residential Heat Pump (Summer) | C13: R-1HP | E13: =Detail!D100 -> 602.40302 | F13: =Detail!N100 -> 4.31 | G13: =Detail!O100 -> 0.018717158 | H13: =F13*12 -> 51.72 | I13: =G13 -> 0.018717158
B15: Rate R-2 Residential Assistance | C15: R-2 | E15: =Detail!D159 -> 475 | F15: =Detail!N159 -> 1.98 | G15: =Detail!O159 -> 0.018539326 | H15: =F15*12 -> 23.76 | I15: =G15 -> 0.018539326
B17: Rate R-2HP Residential Assistance Heat Pump (Winter) | C17: R-2HP | E17: =Detail!D218 -> 1713.597 | F17: =Detail!N218 -> 7.12 | G17: =Detail!O218 -> 0.024352704 | H17: =F17*12 -> 85.44 | I17: =G17 -> 0.024352704
B18: Rate R-2HP Residential Assistance Heat Pump (Summer) | C18: R-2HP | E18: =Detail!D235 -> 602.40302 | F18: =Detail!N235 -> 2.5 | G18: =Detail!O235 -> 0.018718179 | H18: =F18*12 -> 30 | I18: =G18 -> 0.018718179
B20: Rate R-3 Residential Space Heating | C20: R-3 | E20: =Detail!D295 -> 745 | F20: =Detail!N295 -> 5.33 | G20: =Detail!O295 -> 0.019196139 | H20: =F20*12 -> 63.96 | I20: =G20 -> 0.019196139
B22: Rate R-4 Residential Assistance Space Heating | C22: R-4 | E22: =Detail!D353 -> 830 | F22: =Detail!N353 -> 3.44 | G22: =Detail!O353 -> 0.019243679 | H22: =F22*12 -> 41.28 | I22: =G22 -> 0.019243679
B24: Rate G-1 Small General Service | C24: G-1 | E24: 1650 | F24: =Detail!N409 -> 13.35 | G24: =Detail!O409 -> 0.024916478 | H24: =F24*12 -> 160.2 | I24: =G24 -> 0.024916478
B26: Rate G-2 Medium General Service | C26: G-2 | D26: 215 | E26: 39775 | F26: =Detail!N463 -> 321.78 | G26: =Detail!O463 -> 0.021406048 | H26: =F26*12 -> 3861.36 | I26: =G26 -> 0.021406048
B27: Rate G-2 Medium General Service | C27: G-2 | D27: 209 | E27: 75240 | F27: =Detail!N473 -> 608.69 | G27: =Detail!O473 -> 0.02468959 | H27: =F27*12 -> 7304.28 | I27: =G27 -> 0.02468959
B28: Rate G-2 Medium General Service | C28: G-2 | D28: 207 | E28: 101430 | F28: =Detail!N483 -> 820.57 | G28: =Detail!O483 -> 0.025802952 | H28: =F28*12 -> 9846.84 | I28: =G28 -> 0.025802952
B30: Rate G-3 Large General Service | C30: G-3 | D30: 920 | E30: 230000 | F30: =Detail!N536 -> 1860.7 | G30: =Detail!O536 -> 0.024096495 | H30: =F30*12 -> 22328.4 | I30: =G30 -> 0.024096495
B31: Rate G-3 Large General Service | C31: G-3 | D31: 933 | E31: 373200 | F31: =Detail!N544 -> 3019.19 | G31: =Detail!O544 -> 0.026347778 | H31: =F31*12 -> 36230.28 | I31: =G31 -> 0.026347778
B32: Rate G-3 Large General Service | C32: G-3 | D32: 930 | E32: 497550 | F32: =Detail!N552 -> 4025.18 | G32: =Detail!O552 -> 0.027422594 | H32: =F32*12 -> 48302.16 | I32: =G32 -> 0.027422594
B34: Rate G-4 General Power (Closed) | C34: G-4 | D34: =Detail!D605 -> 50 | E34: 5000 | F34: =Detail!N605 -> 40.45 | G34: =Detail!O605 -> 0.022704948 | H34: =F34*12 -> 485.4 | I34: =G34 -> 0.022704948
B35: Rate G-4 General Power (Closed) | C35: G-4 | D35: =Detail!D613 -> 35 | E35: 7525 | F35: =Detail!N613 -> 60.87 | G35: =Detail!O613 -> 0.026772755 | H35: =F35*12 -> 730.44 | I35: =G35 -> 0.026772755
B36: Rate G-4 General Power (Closed) | C36: G-4 | D36: =Detail!D621 -> 27 | E36: 10530 | F36: =Detail!N621 -> 85.19 | G36: =Detail!O621 -> 0.028809117 | H36: =F36*12 -> 1022.28 | I36: =G36 -> 0.028809117
B38: Rate G-7 Optional General Time of Use (Closed) | C38: G-7 | D38: =Detail!D675 -> 9 | E38: =Detail!E675 -> 2340 | F38: =Detail!N675 -> 18.9306 | G38: =Detail!O675 -> 0.025185583 | H38: =F38*12 -> 227.1672 | I38: =G38 -> 0.025185583
B39: Rate G-7 Optional General Time of Use (Closed) | C39: G-7 | D39: =Detail!D683 -> 6 | E39: =Detail!E683 -> 2970 | F39: =Detail!N683 -> 24.0273 | G39: =Detail!O683 -> 0.026029258 | H39: =F39*12 -> 288.3276 | I39: =G39 -> 0.026029258
B40: Rate G-7 Optional General Time of Use (Closed) | C40: G-7 | D40: =Detail!D691 -> 7 | E40: =Detail!E691 -> 4375 | F40: =Detail!N691 -> 35.39375 | G40: =Detail!O691 -> 0.02638075 | H40: =F40*12 -> 424.725 | I40: =G40 -> 0.02638075
B42: The 2026 In Effect reflect the EES rates effective as of January 1, 2026.
B43: The 2027 Proposed reflect the EES rates proposed for effect January 1, 2027 through December 31, 2027.
B44: The proposed rates include the most up to date information as of the date of filing.

Sheet Detail
B3: Cape Light Compact JPE
B4: Calculation of Monthly Typical Bill
B5: Proposed January 1, 2027
B7: Rate R-1 Residential
B10: =IF(D10<>"",COUNTA($D10:D$10),"") -> 1 | D10: Monthly | F10: 2026 In Effect | J10: 2027 Proposed | N10: Total Bill Impact
B11: =IF(D11<>"",COUNTA($D$10:D11),"") -> 2 | D11: kWh | F11: Delivery | G11: Supplier | H11: Total | J11: Delivery | K11: Supplier | L11: Total | N11: Change | O11: % Change
B12: =IF(D12<>"",COUNTA($D$10:D12),"") -> 3 | D12: 100 | F12: =ROUND(SUM($G$31:$G$57)*D12,2)+G$30 -> 30.08 | G12: =ROUND($G$58*D12,2) -> 16.58 | H12: =SUM(F12:G12) -> 46.66 | J12: =ROUND(SUM($H$31:$H$57)*D12,2)+H$30 -> 30.8 | K12: =ROUND($H$58*D12,2) -> 16.58 | L12: =SUM(J12:K12) -> 47.38 | N12: =+L12-H12 -> 0.72 | O12: =+N12/H12 -> 0.015430776
B13: =IF(D13<>"",COUNTA($D$10:D13),"") -> 4 | D13: 200 | F13: =ROUND(SUM($G$31:$G$57)*D13,2)+G$30 -> 50.16 | G13: =ROUND($G$58*D13,2) -> 33.16 | H13: =SUM(F13:G13) -> 83.32 | J13: =ROUND(SUM($H$31:$H$57)*D13,2)+H$30 -> 51.59 | K13: =ROUND($H$58*D13,2) -> 33.16 | L13: =SUM(J13:K13) -> 84.75 | N13: =+L13-H13 -> 1.43 | O13: =+N13/H13 -> 0.017162746
B14: =IF(D14<>"",COUNTA($D$10:D14),"") -> 5 | D14: 300 | F14: =ROUND(SUM($G$31:$G$57)*D14,2)+G$30 -> 70.24 | G14: =ROUND($G$58*D14,2) -> 49.74 | H14: =SUM(F14:G14) -> 119.98 | J14: =ROUND(SUM($H$31:$H$57)*D14,2)+H$30 -> 72.39 | K14: =ROUND($H$58*D14,2) -> 49.74 | L14: =SUM(J14:K14) -> 122.13 | N14: =+L14-H14 -> 2.15 | O14: =+N14/H14 -> 0.017919653
B15: =IF(D15<>"",COUNTA($D$10:D15),"") -> 6 | D15: 400 | F15: =ROUND(SUM($G$31:$G$57)*D15,2)+G$30 -> 90.32 | G15: =ROUND($G$58*D15,2) -> 66.32 | H15: =SUM(F15:G15) -> 156.64 | J15: =ROUND(SUM($H$31:$H$57)*D15,2)+H$30 -> 93.19 | K15: =ROUND($H$58*D15,2) -> 66.32 | L15: =SUM(J15:K15) -> 159.51 | N15: =+L15-H15 -> 2.87 | O15: =+N15/H15 -> 0.018322268
B16: =IF(D16<>"",COUNTA($D$10:D16),"") -> 7 | D16: 500 | F16: =ROUND(SUM($G$31:$G$57)*D16,2)+G$30 -> 110.41 | G16: =ROUND($G$58*D16,2) -> 82.9 | H16: =SUM(F16:G16) -> 193.31 | J16: =ROUND(SUM($H$31:$H$57)*D16,2)+H$30 -> 113.99 | K16: =ROUND($H$58*D16,2) -> 82.9 | L16: =SUM(J16:K16) -> 196.89 | N16: =+L16-H16 -> 3.58 | O16: =+N16/H16 -> 0.018519476
B17: =IF(D17<>"",COUNTA($D$10:D17),"") -> 8 | D17: 600 | F17: =ROUND(SUM($G$31:$G$57)*D17,2)+G$30 -> 130.49 | G17: =ROUND($G$58*D17,2) -> 99.48 | H17: =SUM(F17:G17) -> 229.97 | J17: =ROUND(SUM($H$31:$H$57)*D17,2)+H$30 -> 134.78 | K17: =ROUND($H$58*D17,2) -> 99.48 | L17: =SUM(J17:K17) -> 234.26 | N17: =+L17-H17 -> 4.29 | O17: =+N17/H17 -> 0.018654607
B18: =IF(D18<>"",COUNTA($D$10:D18),"") -> 9 | D18: 700 | F18: =ROUND(SUM($G$31:$G$57)*D18,2)+G$30 -> 150.57 | G18: =ROUND($G$58*D18,2) -> 116.06 | H18: =SUM(F18:G18) -> 266.63 | J18: =ROUND(SUM($H$31:$H$57)*D18,2)+H$30 -> 155.58 | K18: =ROUND($H$58*D18,2) -> 116.06 | L18: =SUM(J18:K18) -> 271.64 | N18: =+L18-H18 -> 5.01 | O18: =+N18/H18 -> 0.018790084
B19: =IF(D19<>"",COUNTA($D$10:D19),"") -> 10 | D19: 800 | F19: =ROUND(SUM($G$31:$G$57)*D19,2)+G$30 -> 170.65 | G19: =ROUND($G$58*D19,2) -> 132.64 | H19: =SUM(F19:G19) -> 303.29 | J19: =ROUND(SUM($H$31:$H$57)*D19,2)+H$30 -> 176.38 | K19: =ROUND($H$58*D19,2) -> 132.64 | L19: =SUM(J19:K19) -> 309.02 | N19: =+L19-H19 -> 5.73 | O19: =+N19/H19 -> 0.018892809
B20: =IF(D20<>"",COUNTA($D$10:D20),"") -> 11 | D20: 900 | F20: =ROUND(SUM($G$31:$G$57)*D20,2)+G$30 -> 190.73 | G20: =ROUND($G$58*D20,2) -> 149.22 | H20: =SUM(F20:G20) -> 339.95 | J20: =ROUND(SUM($H$31:$H$57)*D20,2)+H$30 -> 197.17 | K20: =ROUND($H$58*D20,2) -> 149.22 | L20: =SUM(J20:K20) -> 346.39 | N20: =+L20-H20 -> 6.44 | O20: =+N20/H20 -> 0.018943962
B21: =IF(D21<>"",COUNTA($D$10:D21),"") -> 12 | D21: 1000 | F21: =ROUND(SUM($G$31:$G$57)*D21,2)+G$30 -> 210.81 | G21: =ROUND($G$58*D21,2) -> 165.8 | H21: =SUM(F21:G21) -> 376.61 | J21: =ROUND(SUM($H$31:$H$57)*D21,2)+H$30 -> 217.97 | K21: =ROUND($H$58*D21,2) -> 165.8 | L21: =SUM(J21:K21) -> 383.77 | N21: =+L21-H21 -> 7.16 | O21: =+N21/H21 -> 0.01901171
B22: =IF(D22<>"",COUNTA($D$10:D22),"") -> 13 | D22: 1250 | F22: =ROUND(SUM($G$31:$G$57)*D22,2)+G$30 -> 261.01 | G22: =ROUND($G$58*D22,2) -> 207.25 | H22: =SUM(F22:G22) -> 468.26 | J22: =ROUND(SUM($H$31:$H$57)*D22,2)+H$30 -> 269.96 | K22: =ROUND($H$58*D22,2) -> 207.25 | L22: =SUM(J22:K22) -> 477.21 | N22: =+L22-H22 -> 8.95 | O22: =+N22/H22 -> 0.019113313
B23: =IF(D23<>"",COUNTA($D$10:D23),"") -> 14 | D23: 1500 | F23: =ROUND(SUM($G$31:$G$57)*D23,2)+G$30 -> 311.22 | G23: =ROUND($G$58*D23,2) -> 248.7 | H23: =SUM(F23:G23) -> 559.92 | J23: =ROUND(SUM($H$31:$H$57)*D23,2)+H$30 -> 321.96 | K23: =ROUND($H$58*D23,2) -> 248.7 | L23: =SUM(J23:K23) -> 570.66 | N23: =+L23-H23 -> 10.74 | O23: =+N23/H23 -> 0.019181312
B24: =IF(D24<>"",COUNTA($D$10:D24),"") -> 15 | D24: 2000 | F24: =ROUND(SUM($G$31:$G$57)*D24,2)+G$30 -> 411.62 | G24: =ROUND($G$58*D24,2) -> 331.6 | H24: =SUM(F24:G24) -> 743.22 | J24: =ROUND(SUM($H$31:$H$57)*D24,2)+H$30 -> 425.94 | K24: =ROUND($H$58*D24,2) -> 331.6 | L24: =SUM(J24:K24) -> 757.54 | N24: =+L24-H24 -> 14.32 | O24: =+N24/H24 -> 0.019267512
B25: =IF(D25<>"",COUNTA($D$10:D25),"") -> 16 | C25: Avg | D25: 530 | F25: =ROUND(SUM($G$31:$G$57)*D25,2)+G$30 -> 116.43 | G25: =ROUND($G$58*D25,2) -> 87.87 | H25: =SUM(F25:G25) -> 204.3 | J25: =ROUND(SUM($H$31:$H$57)*D25,2)+H$30 -> 120.22 | K25: =ROUND($H$58*D25,2) -> 87.87 | L25: =SUM(J25:K25) -> 208.09 | N25: =+L25-H25 -> 3.79 | O25: =+N25/H25 -> 0.01855115
B26: =IF(D26<>"",COUNTA($C$11:D26),"")
B27: =IF(D27<>"",COUNTA($C$11:D27),"")
B28: =IF(D28<>"",COUNTA($C$11:D28),"") -> 17 | G28: =F10 -> 2026 In Effect | H28: =J10 -> 2027 Proposed
B29: =IF(D29<>"",COUNTA($C$11:D29),"") -> 18 | G29: Rates | H29: Rates | J29: Change
B30: =IF(D30<>"",COUNTA($C$11:D30),"") -> 19 | D30: Customer Charge | G30: 10 | H30: 10 | J30: =+H30-G30 -> 0
B31: =IF(D31<>"",COUNTA($C$11:D31),"") -> 20 | D31: Distribution Energy | G31: 0.06603 | H31: 0.06603 | J31: =+H31-G31 -> 0
B32: =IF(D32<>"",COUNTA($C$11:D32),"") -> 21 | D32: Exogenous Cost Adjustment | G32: -1e-05 | H32: -1e-05 | J32: =+H32-G32 -> 0
B33: =IF(D33<>"",COUNTA($C$11:D33),"") -> 22 | D33: Revenue Decoupling | G33: 0.00539 | H33: 0.00539 | J33: =+H33-G33 -> 0
B34: =IF(D34<>"",COUNTA($C$11:D34),"") -> 23 | D34: Distributed Solar Charge | G34: 0.00583 | H34: 0.00583 | J34: =+H34-G34 -> 0
B35: =IF(D35<>"",COUNTA($C$11:D35),"") -> 24 | D35: Residential Assistance Adjustment Factor | G35: 0.01033 | H35: 0.01033 | J35: =+H35-G35 -> 0
B36: =IF(D36<>"",COUNTA($C$11:D36),"") -> 25 | D36: Pension Adjustment Factor | G36: 0.00138 | H36: 0.00138 | J36: =+H36-G36 -> 0
B37: =IF(D37<>"",COUNTA($C$11:D37),"") -> 26 | D37: Net Metering Recovery Surcharge | G37: 0.00625 | H37: 0.00625 | J37: =+H37-G37 -> 0
B38: =IF(D38<>"",COUNTA($C$11:D38),"") -> 27 | D38: Long Term Renewable Contract Adjustment | G38: -0.00037 | H38: -0.00037 | J38: =+H38-G38 -> 0
B39: =IF(D39<>"",COUNTA($C$11:D39),"") -> 28 | D39: AG Consulting Expense | G39: 3e-05 | H39: 3e-05 | J39: =+H39-G39 -> 0
B40: =IF(D40<>"",COUNTA($C$11:D40),"") -> 29 | D40: Storm Cost Recovery Adjustment Factor | G40: 0.0096 | H40: 0.0096 | J40: =+H40-G40 -> 0
B41: =IF(D41<>"",COUNTA($C$11:D41),"") -> 30 | D41: Storm Reserve Adjustment | G41: 0 | H41: 0 | J41: =+H41-G41 -> 0
... B58: =IF(D58<>"",COUNTA($C$11:D58),"") -> 47 | D58: Supply Charge | G58: 0.1658 | H58: 0.1658 | J58: =+H58-G58 -> 0
B61: Cape Light Compact JPE
B62: Calculation of Monthly Typical Bill
B63: Proposed January 1, 2027
...
