BEGIN:VCALENDAR
VERSION:2.0
PRODID:-//Cape Light Compact - ECPv6.15.20//NONSGML v1.0//EN
CALSCALE:GREGORIAN
METHOD:PUBLISH
X-ORIGINAL-URL:https://www.capelightcompact.org
X-WR-CALDESC:Events for Cape Light Compact
REFRESH-INTERVAL;VALUE=DURATION:PT1H
X-Robots-Tag:noindex
X-PUBLISHED-TTL:PT1H
BEGIN:VTIMEZONE
TZID:America/New_York
BEGIN:DAYLIGHT
TZOFFSETFROM:-0500
TZOFFSETTO:-0400
TZNAME:EDT
DTSTART:20250309T070000
END:DAYLIGHT
BEGIN:STANDARD
TZOFFSETFROM:-0400
TZOFFSETTO:-0500
TZNAME:EST
DTSTART:20251102T060000
END:STANDARD
BEGIN:DAYLIGHT
TZOFFSETFROM:-0500
TZOFFSETTO:-0400
TZNAME:EDT
DTSTART:20260308T070000
END:DAYLIGHT
BEGIN:STANDARD
TZOFFSETFROM:-0400
TZOFFSETTO:-0500
TZNAME:EST
DTSTART:20261101T060000
END:STANDARD
BEGIN:DAYLIGHT
TZOFFSETFROM:-0500
TZOFFSETTO:-0400
TZNAME:EDT
DTSTART:20270314T070000
END:DAYLIGHT
BEGIN:STANDARD
TZOFFSETFROM:-0400
TZOFFSETTO:-0500
TZNAME:EST
DTSTART:20271107T060000
END:STANDARD
END:VTIMEZONE
BEGIN:VEVENT
DTSTART;TZID=America/New_York:20260328T083000
DTEND;TZID=America/New_York:20260328T150000
DTSTAMP:20260424T152250
CREATED:20260226T184008Z
LAST-MODIFIED:20260226T184008Z
UID:10000120-1774686600-1774710000@www.capelightcompact.org
SUMMARY:2026 Massachusetts Energy Education Workshop for Teachers
DESCRIPTION:WHAT DO YOU RECEIVE FOR YOUR PARTICIPATION?\n• NEED Science of Energy Kit\n• Choice of a NEED Energy Management Kit\n• $150 Stipend\n• 10 PDP credits available\n• Massachusetts aligned curriculum. \nWHO SHOULD ATTEND?\n• K-12th Grade Teachers\n• CTE Teachers\n• Afterschool program leaders \nQUESTIONS?\nContact Wendi Moss at wmoss@need.org or call 1-800-875-5029 \nAGENDA \n8:30 a.m. Registration\nPick up NEED materials and conference supplies. Continental breakfast will be served. NEED curriculum kits are sponsored for each teacher attending the workshop. Packets include supplemental classroom materials\, Energy Infobooks at 3 grade levels\, and much more! Complete a pre-workshop assessment.\n8:45 a.m. Welcome and Introductions\nMeet your fellow participants and the sponsors of today’s workshop. Review goals and objectives for the workshop and begin planning ways to use the NEED materials and training in your school. Energy Bingo.\n9:00 a.m. The Science of Energy\nLearn more about the forms of energy while experimenting with the NEED Project’s\nScience of Energy kit. Kits will be made available to participating teachers.\n10:30 a.m. Massachusetts Electric Connection\nAfter learning about the forms of energy\, discover how the different energy sources contribute to the generation of electricity in Massachusetts. Check out the Massachusetts numbers for all energy use too.\n11:00 a.m. Hands on Renewable Energy Activities\nHydropower – Moving Water Can Do Work\nSolar – UV Beads\nWind – Blade Investigation\n12:00 p.m. Lunch\n12:45 p.m. Energy Efficiency 101\n1:00 p.m. Conservation in the Round\n1:30 p.m. Climate Science\n– Greenhouse in a Beaker\n2:00 p.m. School Energy Teams\n2:30 p.m. Explore the Website\, Q&A\, Post Assessment and Evaluations\n3:00 p.m. Adjourn
URL:https://www.capelightcompact.org/event/2026-massachusetts-energy-education-workshop-for-teachers/
LOCATION:Margaritaville Resort\, 1225 Iyannough Road\, Hyannis\, MA\, 02601\, United States
ATTACH;FMTTYPE=image/jpeg:https://www.capelightcompact.org/wp-content/uploads/2026/02/DSC09747.jpg
END:VEVENT
END:VCALENDAR