BEGIN:VCALENDAR
VERSION:2.0
PRODID:-//Cape Light Compact - ECPv6.15.20//NONSGML v1.0//EN
CALSCALE:GREGORIAN
METHOD:PUBLISH
X-ORIGINAL-URL:https://www.capelightcompact.org
X-WR-CALDESC:Events for Cape Light Compact
REFRESH-INTERVAL;VALUE=DURATION:PT1H
X-Robots-Tag:noindex
X-PUBLISHED-TTL:PT1H
BEGIN:VTIMEZONE
TZID:America/New_York
BEGIN:DAYLIGHT
TZOFFSETFROM:-0500
TZOFFSETTO:-0400
TZNAME:EDT
DTSTART:20180311T070000
END:DAYLIGHT
BEGIN:STANDARD
TZOFFSETFROM:-0400
TZOFFSETTO:-0500
TZNAME:EST
DTSTART:20181104T060000
END:STANDARD
BEGIN:DAYLIGHT
TZOFFSETFROM:-0500
TZOFFSETTO:-0400
TZNAME:EDT
DTSTART:20190310T070000
END:DAYLIGHT
BEGIN:STANDARD
TZOFFSETFROM:-0400
TZOFFSETTO:-0500
TZNAME:EST
DTSTART:20191103T060000
END:STANDARD
BEGIN:DAYLIGHT
TZOFFSETFROM:-0500
TZOFFSETTO:-0400
TZNAME:EDT
DTSTART:20200308T070000
END:DAYLIGHT
BEGIN:STANDARD
TZOFFSETFROM:-0400
TZOFFSETTO:-0500
TZNAME:EST
DTSTART:20201101T060000
END:STANDARD
END:VTIMEZONE
BEGIN:VEVENT
DTSTART;TZID=America/New_York:20190615T100000
DTEND;TZID=America/New_York:20190615T140000
DTSTAMP:20260424T042256
CREATED:20190522T160121Z
LAST-MODIFIED:20190522T160121Z
UID:10000033-1560592800-1560607200@www.capelightcompact.org
SUMMARY:Dehumidifier Turn-In event.
DESCRIPTION:Bring your old inefficient dehumidifier and get $30! \nDrop off your dehumidifier and receive a rebate form from event staff.\nComplete the rebate form and submit it through one of the following methods:\nComplete the rebate form at the event and leave it with the event staff\,\nFill out the rebate form at home and send it in through mail to the address listed on the rebate form\, or\nFill out the rebate form at home and submit it online at MassSave.com/Savings.\nReceive your $30 recycling rebate by mail 4 – 6 weeks after the form is submitted. \nThe following restrictions apply to this limited-time offer: \nLimit two dehumidifier turn-in rebates per Mass Save Sponsor residential electric account per calendar year (commercial accounts are not eligible).\nEligible dehumidifiers must be sized appropriately for residential applications (20 to 70 pints).\nEligible dehumidifiers must be in working condition\nIf participating through a town-specific event\, you must be a resident of that town and provide ID for proof of residency.
URL:https://www.capelightcompact.org/event/dehumidifier-turn-in-event/
LOCATION:MA
END:VEVENT
END:VCALENDAR